BEGIN:VCALENDAR
CALSCALE:GREGORIAN
X-WR-TIMEZONE;VALUE=TEXT:GMT
PRODID:PEAK Corporation - piCal -
X-WR-CALNAME;VALUE=TEXT:Äà¤ê
VERSION:2.0
METHOD:PUBLISH
BEGIN:VTIMEZONE
TZID:GMT
BEGIN:STANDARD
DTSTART:19390101T000000
TZOFFSETFROM:+0000
TZOFFSETTO:+0000
TZNAME:GMT
END:STANDARD
END:VTIMEZONE
BEGIN:VEVENT
DTSTART;VALUE=DATE:20120505
DTEND;VALUE=DATE:20120506
LOCATION:½©ÅÄ¥Þ¥ê¡¼¥Ê
TRANSP:OPAQUE
SEQUENCE:1
UID:pical060-c8344b51bd1f7e5445b09848d8a80375
DTSTAMP:20120503T231009Z
CATEGORIES:
DESCRIPTION:£´»þ½¸¹ç\n£´»þÈ¾½Ð¹Á
SUMMARY:Äà¤ê
PRIORITY:0
CLASS:PUBLIC
END:VEVENT
END:VCALENDAR
